BEGIN:VCALENDAR
VERSION:2.0
PRODID:-//Talie Helene - ECPv6.15.20//NONSGML v1.0//EN
CALSCALE:GREGORIAN
METHOD:PUBLISH
X-ORIGINAL-URL:https://www.taliehelene.com
X-WR-CALDESC:Events for Talie Helene
REFRESH-INTERVAL;VALUE=DURATION:PT1H
X-Robots-Tag:noindex
X-PUBLISHED-TTL:PT1H
BEGIN:VTIMEZONE
TZID:UTC
BEGIN:STANDARD
TZOFFSETFROM:+0000
TZOFFSETTO:+0000
TZNAME:UTC
DTSTART:20190101T000000
END:STANDARD
END:VTIMEZONE
BEGIN:VEVENT
DTSTART;TZID=UTC:20200422T183000
DTEND;TZID=UTC:20200422T210000
DTSTAMP:20260423T200118
CREATED:20200401T013921Z
LAST-MODIFIED:20200529T014751Z
UID:11754-1587580200-1587589200@www.taliehelene.com
SUMMARY:[CANCELLED] Interactive Composition Open House
DESCRIPTION:This concert showcases live interdisciplinary moving and installed works by first and second year Interactive Composition students. Enter our open house and experience a vibrant world of light\, sound and movement. \nWe strongly encourage booking in advance for all of our events. This guarantees your seat\, and allows us to communicate any unforeseen event scheduling changes with you.
URL:https://www.taliehelene.com/event/cancelled-interactive-composition-open-house/
LOCATION:Lionel’s Bar & Grant Street Theatre\, Building 872\, VCA\, Southbank\, Victoria\, 3006\, Australia
CATEGORIES:Recital
ATTACH;FMTTYPE=image/jpeg:https://www.taliehelene.com/wp-content/uploads/2020/05/01B0EAD0-92DA-4DCD-8761-A50821757943.jpeg
END:VEVENT
END:VCALENDAR